BEGIN:VCALENDAR
VERSION:2.0
PRODID:-//Poynter Primary School - ECPv6.15.20//NONSGML v1.0//EN
CALSCALE:GREGORIAN
METHOD:PUBLISH
X-ORIGINAL-URL:https://poynterps.wa.edu.au
X-WR-CALDESC:Events for Poynter Primary School
REFRESH-INTERVAL;VALUE=DURATION:PT1H
X-Robots-Tag:noindex
X-PUBLISHED-TTL:PT1H
BEGIN:VTIMEZONE
TZID:Australia/Perth
BEGIN:STANDARD
TZOFFSETFROM:+0800
TZOFFSETTO:+0800
TZNAME:AWST
DTSTART:20240101T000000
END:STANDARD
END:VTIMEZONE
BEGIN:VEVENT
DTSTART;TZID=Australia/Perth:20260305T080000
DTEND;TZID=Australia/Perth:20260305T170000
DTSTAMP:20260423T001533
CREATED:20260210T034636Z
LAST-MODIFIED:20260210T034636Z
UID:3396-1772697600-1772730000@poynterps.wa.edu.au
SUMMARY:Year 6 Leadership Conference
DESCRIPTION:Selected students only.
URL:https://poynterps.wa.edu.au/calendar/year-6-leadership-conference/
CATEGORIES:Year 6
END:VEVENT
BEGIN:VEVENT
DTSTART;VALUE=DATE:20260217
DTEND;VALUE=DATE:20260221
DTSTAMP:20260423T001533
CREATED:20250523T051029Z
LAST-MODIFIED:20250523T051119Z
UID:3153-1771286400-1771631999@poynterps.wa.edu.au
SUMMARY:Year 6 2026 Camp
DESCRIPTION:Wadjemup Camp. More information to follow in due course.
URL:https://poynterps.wa.edu.au/calendar/year-6-2026-camp/
CATEGORIES:Year 6
END:VEVENT
BEGIN:VEVENT
DTSTART;TZID=Australia/Perth:20251217T090000
DTEND;TZID=Australia/Perth:20251217T110000
DTSTAMP:20260423T001533
CREATED:20250214T062408Z
LAST-MODIFIED:20250924T044331Z
UID:2948-1765962000-1765969200@poynterps.wa.edu.au
SUMMARY:Year 6 Graduation
DESCRIPTION:
URL:https://poynterps.wa.edu.au/calendar/year-6-graduation/
CATEGORIES:Year 6
END:VEVENT
BEGIN:VEVENT
DTSTART;TZID=Australia/Perth:20251215T170000
DTEND;TZID=Australia/Perth:20251215T210000
DTSTAMP:20260423T001533
CREATED:20250214T062205Z
LAST-MODIFIED:20250214T062305Z
UID:2946-1765818000-1765832400@poynterps.wa.edu.au
SUMMARY:Year 6 Dinner Dance
DESCRIPTION:Year 6 students and teachers only.
URL:https://poynterps.wa.edu.au/calendar/year-6-dinner-dance/
CATEGORIES:Year 6
END:VEVENT
BEGIN:VEVENT
DTSTART;TZID=Australia/Perth:20251212T080000
DTEND;TZID=Australia/Perth:20251212T170000
DTSTAMP:20260423T001533
CREATED:20250318T040834Z
LAST-MODIFIED:20250318T040834Z
UID:3072-1765526400-1765558800@poynterps.wa.edu.au
SUMMARY:Year 6 Outback Splash
DESCRIPTION:More details to follow in due course.
URL:https://poynterps.wa.edu.au/calendar/year-6-outback-splash/
CATEGORIES:Year 6
END:VEVENT
BEGIN:VEVENT
DTSTART;TZID=Australia/Perth:20250225T080000
DTEND;TZID=Australia/Perth:20250228T170000
DTSTAMP:20260423T001533
CREATED:20250212T060122Z
LAST-MODIFIED:20250214T062333Z
UID:2861-1740470400-1740762000@poynterps.wa.edu.au
SUMMARY:Year 6 Camp
DESCRIPTION:
URL:https://poynterps.wa.edu.au/calendar/year-6-camp/
CATEGORIES:Year 6
END:VEVENT
BEGIN:VEVENT
DTSTART;VALUE=DATE:20250220
DTEND;VALUE=DATE:20250221
DTSTAMP:20260423T001533
CREATED:20250214T072410Z
LAST-MODIFIED:20250214T073519Z
UID:2976-1740009600-1740095999@poynterps.wa.edu.au
SUMMARY:Dream and Lead Conference
DESCRIPTION:Selected Year 6 students ONLY
URL:https://poynterps.wa.edu.au/calendar/dream-and-lead-conference/
CATEGORIES:Year 6
END:VEVENT
END:VCALENDAR