BEGIN:VCALENDAR
VERSION:2.0
PRODID:-//Poynter Primary School - ECPv6.15.20//NONSGML v1.0//EN
CALSCALE:GREGORIAN
METHOD:PUBLISH
X-WR-CALNAME:Poynter Primary School
X-ORIGINAL-URL:https://poynterps.wa.edu.au
X-WR-CALDESC:Events for Poynter Primary School
REFRESH-INTERVAL;VALUE=DURATION:PT1H
X-Robots-Tag:noindex
X-PUBLISHED-TTL:PT1H
BEGIN:VTIMEZONE
TZID:Australia/Perth
BEGIN:STANDARD
TZOFFSETFROM:+0800
TZOFFSETTO:+0800
TZNAME:AWST
DTSTART:20240101T000000
END:STANDARD
END:VTIMEZONE
BEGIN:VEVENT
DTSTART;TZID=Australia/Perth:20251215T170000
DTEND;TZID=Australia/Perth:20251215T210000
DTSTAMP:20260422T152600
CREATED:20250214T062205Z
LAST-MODIFIED:20250214T062305Z
UID:2946-1765818000-1765832400@poynterps.wa.edu.au
SUMMARY:Year 6 Dinner Dance
DESCRIPTION:Year 6 students and teachers only.
URL:https://poynterps.wa.edu.au/calendar/year-6-dinner-dance/
CATEGORIES:Year 6
END:VEVENT
END:VCALENDAR