BEGIN:VCALENDAR
VERSION:2.0
PRODID:-//Poynter Primary School - ECPv6.15.20//NONSGML v1.0//EN
CALSCALE:GREGORIAN
METHOD:PUBLISH
X-ORIGINAL-URL:https://poynterps.wa.edu.au
X-WR-CALDESC:Events for Poynter Primary School
REFRESH-INTERVAL;VALUE=DURATION:PT1H
X-Robots-Tag:noindex
X-PUBLISHED-TTL:PT1H
BEGIN:VTIMEZONE
TZID:Australia/Perth
BEGIN:STANDARD
TZOFFSETFROM:+0800
TZOFFSETTO:+0800
TZNAME:AWST
DTSTART:20250101T000000
END:STANDARD
END:VTIMEZONE
BEGIN:VEVENT
DTSTART;TZID=Australia/Perth:20260424T053000
DTEND;TZID=Australia/Perth:20260424T121000
DTSTAMP:20260423T060912
CREATED:20250515T021209Z
LAST-MODIFIED:20250515T021209Z
UID:3128-1777008600-1777032600@poynterps.wa.edu.au
SUMMARY:ANZAC Day 2026
DESCRIPTION:School commences at 5:30am and closes at 12:10pm.  Further information will be provided in due course.
URL:https://poynterps.wa.edu.au/calendar/anzac-day-2026/
CATEGORIES:Whole School Events
END:VEVENT
BEGIN:VEVENT
DTSTART;VALUE=DATE:20260526
DTEND;VALUE=DATE:20260527
DTSTAMP:20260423T060912
CREATED:20260210T043939Z
LAST-MODIFIED:20260210T043939Z
UID:3426-1779753600-1779839999@poynterps.wa.edu.au
SUMMARY:National Sorry Day
DESCRIPTION:
URL:https://poynterps.wa.edu.au/calendar/national-sorry-day/
CATEGORIES:Whole School Events
END:VEVENT
BEGIN:VEVENT
DTSTART;TZID=Australia/Perth:20260527T080000
DTEND;TZID=Australia/Perth:20260603T170000
DTSTAMP:20260423T060912
CREATED:20260210T044228Z
LAST-MODIFIED:20260210T044228Z
UID:3428-1779868800-1780506000@poynterps.wa.edu.au
SUMMARY:National Reconciliation Week
DESCRIPTION:
URL:https://poynterps.wa.edu.au/calendar/national-reconciliation-week/
CATEGORIES:Whole School Events
END:VEVENT
BEGIN:VEVENT
DTSTART;VALUE=DATE:20260629
DTEND;VALUE=DATE:20260630
DTSTAMP:20260423T060912
CREATED:20260210T045100Z
LAST-MODIFIED:20260210T045100Z
UID:3448-1782691200-1782777599@poynterps.wa.edu.au
SUMMARY:School Reports Home
DESCRIPTION:
URL:https://poynterps.wa.edu.au/calendar/school-reports-home/
CATEGORIES:Whole School Events
END:VEVENT
BEGIN:VEVENT
DTSTART;VALUE=DATE:20260817
DTEND;VALUE=DATE:20260822
DTSTAMP:20260423T060912
CREATED:20260210T063739Z
LAST-MODIFIED:20260210T063739Z
UID:3463-1786924800-1787356799@poynterps.wa.edu.au
SUMMARY:Bookweek
DESCRIPTION:Theme: Symphony of Stories
URL:https://poynterps.wa.edu.au/calendar/bookweek/
CATEGORIES:Whole School Events
END:VEVENT
BEGIN:VEVENT
DTSTART;VALUE=DATE:20261026
DTEND;VALUE=DATE:20261027
DTSTAMP:20260423T060912
CREATED:20260210T071837Z
LAST-MODIFIED:20260210T071837Z
UID:3489-1792972800-1793059199@poynterps.wa.edu.au
SUMMARY:Multicultural Day & French Day
DESCRIPTION:
URL:https://poynterps.wa.edu.au/calendar/multicultural-day-french-day/
CATEGORIES:Whole School Events
END:VEVENT
BEGIN:VEVENT
DTSTART;VALUE=DATE:20261214
DTEND;VALUE=DATE:20261215
DTSTAMP:20260423T060912
CREATED:20260210T072606Z
LAST-MODIFIED:20260210T072606Z
UID:3503-1797206400-1797292799@poynterps.wa.edu.au
SUMMARY:School Reports Home
DESCRIPTION:
URL:https://poynterps.wa.edu.au/calendar/school-reports-home-2/
CATEGORIES:Whole School Events
END:VEVENT
BEGIN:VEVENT
DTSTART;TZID=Australia/Perth:20261214T080000
DTEND;TZID=Australia/Perth:20261214T170000
DTSTAMP:20260423T060912
CREATED:20260210T072523Z
LAST-MODIFIED:20260210T072523Z
UID:3501-1797235200-1797267600@poynterps.wa.edu.au
SUMMARY:Class Awards
DESCRIPTION:Pre Primary – Year 5
URL:https://poynterps.wa.edu.au/calendar/class-awards-2/
CATEGORIES:Whole School Events
END:VEVENT
END:VCALENDAR