BEGIN:VCALENDAR
VERSION:2.0
PRODID:-//Poynter Primary School - ECPv6.15.20//NONSGML v1.0//EN
CALSCALE:GREGORIAN
METHOD:PUBLISH
X-ORIGINAL-URL:https://poynterps.wa.edu.au
X-WR-CALDESC:Events for Poynter Primary School
REFRESH-INTERVAL;VALUE=DURATION:PT1H
X-Robots-Tag:noindex
X-PUBLISHED-TTL:PT1H
BEGIN:VTIMEZONE
TZID:Australia/Perth
BEGIN:STANDARD
TZOFFSETFROM:+0800
TZOFFSETTO:+0800
TZNAME:AWST
DTSTART:20240101T000000
END:STANDARD
END:VTIMEZONE
BEGIN:VEVENT
DTSTART;TZID=Australia/Perth:20251103T080000
DTEND;TZID=Australia/Perth:20251103T170000
DTSTAMP:20260422T211244
CREATED:20250723T060216Z
LAST-MODIFIED:20250723T060216Z
UID:3175-1762156800-1762189200@poynterps.wa.edu.au
SUMMARY:French / Multicultural Day
DESCRIPTION:More information to follow in due course.
URL:https://poynterps.wa.edu.au/calendar/french-multicultural-day/
CATEGORIES:Whole School Events
END:VEVENT
BEGIN:VEVENT
DTSTART;TZID=Australia/Perth:20251023T080000
DTEND;TZID=Australia/Perth:20251023T093000
DTSTAMP:20260422T211244
CREATED:20250924T025445Z
LAST-MODIFIED:20250924T025445Z
UID:3219-1761206400-1761211800@poynterps.wa.edu.au
SUMMARY:Your Move Bike Event and Breakfast
DESCRIPTION:October is WA Bike Month\, and the Poynter Primary Your Move team are hosting our second annual Bike To School Breakfast! \nParents and Students are encouraged to ride or scoot to school to promote active school travel amongst our school community\, and help us earn those all-important Your Move points.  The more Your Move points we earn as a school\, the higher our accreditation for applying for a Connecting Schools Grant for bike infrastructure and workshops. \nStudents who bike or scoot to school receive a breakfast treat\, and go in the draw to win 1 of 2 WA Bike Month prize packs. \nIf you are able to help out at the breakfast or join the Poynter Your Move Team\, please email yourmove@poynterpandc.org.au. \nAnd if you haven’t already\, check out our sparkly new scooter racks out the front of the ECE area.
URL:https://poynterps.wa.edu.au/calendar/your-move-bike-event-and-breakfast/
CATEGORIES:Whole School Events
END:VEVENT
BEGIN:VEVENT
DTSTART;TZID=Australia/Perth:20250826T090000
DTEND;TZID=Australia/Perth:20250826T100000
DTSTAMP:20260422T211244
CREATED:20250723T054444Z
LAST-MODIFIED:20250723T054633Z
UID:3167-1756198800-1756202400@poynterps.wa.edu.au
SUMMARY:Book Week Dress Up Assembly
DESCRIPTION:More information to follow in due course.
URL:https://poynterps.wa.edu.au/calendar/book-week-dress-up-assembly/
CATEGORIES:Whole School Events
END:VEVENT
BEGIN:VEVENT
DTSTART;VALUE=DATE:20250822
DTEND;VALUE=DATE:20250823
DTSTAMP:20260422T211244
CREATED:20250220T070122Z
LAST-MODIFIED:20250220T070122Z
UID:3014-1755820800-1755907199@poynterps.wa.edu.au
SUMMARY:Faction House Carnival
DESCRIPTION:
URL:https://poynterps.wa.edu.au/calendar/faction-house-carnival/
CATEGORIES:Whole School Events
END:VEVENT
BEGIN:VEVENT
DTSTART;TZID=Australia/Perth:20250820T080000
DTEND;TZID=Australia/Perth:20250820T170000
DTSTAMP:20260422T211244
CREATED:20250812T032135Z
LAST-MODIFIED:20250812T040208Z
UID:3196-1755676800-1755709200@poynterps.wa.edu.au
SUMMARY:Faction House Carnival - Jumps\, Throws\, 200m & 400m
DESCRIPTION:Selected year 3 to 6 students only.
URL:https://poynterps.wa.edu.au/calendar/faction-house-carnival-jumps-throws-200m-400m/
CATEGORIES:Sport,Whole School Events
END:VEVENT
BEGIN:VEVENT
DTSTART;TZID=Australia/Perth:20250819T080000
DTEND;TZID=Australia/Perth:20250819T170000
DTSTAMP:20260422T211244
CREATED:20250723T053408Z
LAST-MODIFIED:20250723T053408Z
UID:3165-1755590400-1755622800@poynterps.wa.edu.au
SUMMARY:Kaartdijin Compass Launch
DESCRIPTION:More information to follow in due course.
URL:https://poynterps.wa.edu.au/calendar/kaartdijin-compass-launch/
CATEGORIES:Whole School Events
END:VEVENT
BEGIN:VEVENT
DTSTART;VALUE=DATE:20250630
DTEND;VALUE=DATE:20250701
DTSTAMP:20260422T211244
CREATED:20250214T073708Z
LAST-MODIFIED:20250214T080048Z
UID:2978-1751241600-1751327999@poynterps.wa.edu.au
SUMMARY:Reports Home
DESCRIPTION:
URL:https://poynterps.wa.edu.au/calendar/reports-home/
CATEGORIES:Whole School Events
END:VEVENT
BEGIN:VEVENT
DTSTART;TZID=Australia/Perth:20250411T053000
DTEND;TZID=Australia/Perth:20250411T121000
DTSTAMP:20260422T211244
CREATED:20250212T070631Z
LAST-MODIFIED:20250214T012013Z
UID:2884-1744349400-1744373400@poynterps.wa.edu.au
SUMMARY:ANZAC Day
DESCRIPTION:School commences at 5:30am and closes at 12:10pm.  Further information will be provided in due course.
URL:https://poynterps.wa.edu.au/calendar/anzac-day/
CATEGORIES:Whole School Events
END:VEVENT
BEGIN:VEVENT
DTSTART;VALUE=DATE:20250402
DTEND;VALUE=DATE:20250403
DTSTAMP:20260422T211244
CREATED:20250212T065614Z
LAST-MODIFIED:20250214T011350Z
UID:2882-1743552000-1743638399@poynterps.wa.edu.au
SUMMARY:Staff & Parent Interviews
DESCRIPTION:School commences as normal at 8.50 am and will close at 12.10pm.  Parent interviews commence at 12.50 pm.  More information to follow in due course.
URL:https://poynterps.wa.edu.au/calendar/staff-parent-interviews/
CATEGORIES:Whole School Events
END:VEVENT
BEGIN:VEVENT
DTSTART;TZID=Australia/Perth:20250325T080000
DTEND;TZID=Australia/Perth:20250326T170000
DTSTAMP:20260422T211244
CREATED:20250212T064528Z
LAST-MODIFIED:20250212T064528Z
UID:2878-1742889600-1743008400@poynterps.wa.edu.au
SUMMARY:School Photos
DESCRIPTION:
URL:https://poynterps.wa.edu.au/calendar/school-photos/
CATEGORIES:Whole School Events
END:VEVENT
BEGIN:VEVENT
DTSTART;VALUE=DATE:20250321
DTEND;VALUE=DATE:20250322
DTSTAMP:20260422T211244
CREATED:20250212T064348Z
LAST-MODIFIED:20250212T064348Z
UID:2874-1742515200-1742601599@poynterps.wa.edu.au
SUMMARY:Harmony Day
DESCRIPTION:
URL:https://poynterps.wa.edu.au/calendar/harmony-day/
CATEGORIES:Whole School Events
END:VEVENT
BEGIN:VEVENT
DTSTART;VALUE=DATE:20250321
DTEND;VALUE=DATE:20250322
DTSTAMP:20260422T211244
CREATED:20250214T070124Z
LAST-MODIFIED:20250214T070233Z
UID:2972-1742515200-1742601599@poynterps.wa.edu.au
SUMMARY:Lots of Socks Day
DESCRIPTION:We will celebrate World Down Syndrome Day by wearing lots of socks. More information to follow in due course.
URL:https://poynterps.wa.edu.au/calendar/lots-of-socks-day/
CATEGORIES:Whole School Events
END:VEVENT
END:VCALENDAR