BEGIN:VCALENDAR
VERSION:2.0
PRODID:-//Poynter Primary School - ECPv6.15.20//NONSGML v1.0//EN
CALSCALE:GREGORIAN
METHOD:PUBLISH
X-WR-CALNAME:Poynter Primary School
X-ORIGINAL-URL:https://poynterps.wa.edu.au
X-WR-CALDESC:Events for Poynter Primary School
REFRESH-INTERVAL;VALUE=DURATION:PT1H
X-Robots-Tag:noindex
X-PUBLISHED-TTL:PT1H
BEGIN:VTIMEZONE
TZID:Australia/Perth
BEGIN:STANDARD
TZOFFSETFROM:+0800
TZOFFSETTO:+0800
TZNAME:AWST
DTSTART:20240101T000000
END:STANDARD
END:VTIMEZONE
BEGIN:VEVENT
DTSTART;TZID=Australia/Perth:20251205T090000
DTEND;TZID=Australia/Perth:20251205T150000
DTSTAMP:20260423T070745
CREATED:20250924T044729Z
LAST-MODIFIED:20251107T033837Z
UID:3244-1764925200-1764946800@poynterps.wa.edu.au
SUMMARY:Wellbeing Day
DESCRIPTION:More information to follow in due course
URL:https://poynterps.wa.edu.au/calendar/wellbeing-day/
CATEGORIES:Whole School Events
END:VEVENT
BEGIN:VEVENT
DTSTART;TZID=Australia/Perth:20251215T150000
DTEND;TZID=Australia/Perth:20251215T150000
DTSTAMP:20260423T070745
CREATED:20251022T070841Z
LAST-MODIFIED:20251107T031911Z
UID:3262-1765810800-1765810800@poynterps.wa.edu.au
SUMMARY:School Reports
DESCRIPTION:Reports will be published via Connect
URL:https://poynterps.wa.edu.au/calendar/school-reports/
CATEGORIES:Whole School Events
END:VEVENT
BEGIN:VEVENT
DTSTART;TZID=Australia/Perth:20251216T090000
DTEND;TZID=Australia/Perth:20251216T110000
DTSTAMP:20260423T070745
CREATED:20250214T062439Z
LAST-MODIFIED:20250723T062019Z
UID:2950-1765875600-1765882800@poynterps.wa.edu.au
SUMMARY:Class Awards
DESCRIPTION:PP – Year 5 class awards.
URL:https://poynterps.wa.edu.au/calendar/class-awards/
CATEGORIES:Whole School Events
END:VEVENT
END:VCALENDAR