BEGIN:VCALENDAR
VERSION:2.0
PRODID:-//Poynter Primary School - ECPv6.15.20//NONSGML v1.0//EN
CALSCALE:GREGORIAN
METHOD:PUBLISH
X-ORIGINAL-URL:https://poynterps.wa.edu.au
X-WR-CALDESC:Events for Poynter Primary School
REFRESH-INTERVAL;VALUE=DURATION:PT1H
X-Robots-Tag:noindex
X-PUBLISHED-TTL:PT1H
BEGIN:VTIMEZONE
TZID:Australia/Perth
BEGIN:STANDARD
TZOFFSETFROM:+0800
TZOFFSETTO:+0800
TZNAME:AWST
DTSTART:20240101T000000
END:STANDARD
END:VTIMEZONE
BEGIN:VEVENT
DTSTART;VALUE=DATE:20250606
DTEND;VALUE=DATE:20250607
DTSTAMP:20260423T145858
CREATED:20250212T082757Z
LAST-MODIFIED:20250212T082757Z
UID:2909-1749168000-1749254399@poynterps.wa.edu.au
SUMMARY:Winter Sport
DESCRIPTION:
URL:https://poynterps.wa.edu.au/calendar/winter-sport-5/
CATEGORIES:Sport
END:VEVENT
BEGIN:VEVENT
DTSTART;VALUE=DATE:20250613
DTEND;VALUE=DATE:20250614
DTSTAMP:20260423T145858
CREATED:20250212T082828Z
LAST-MODIFIED:20250212T082828Z
UID:2911-1749772800-1749859199@poynterps.wa.edu.au
SUMMARY:Winter Sport
DESCRIPTION:
URL:https://poynterps.wa.edu.au/calendar/winter-sport-6/
CATEGORIES:Sport
END:VEVENT
BEGIN:VEVENT
DTSTART;VALUE=DATE:20250620
DTEND;VALUE=DATE:20250621
DTSTAMP:20260423T145858
CREATED:20250212T082908Z
LAST-MODIFIED:20250212T082908Z
UID:2913-1750377600-1750463999@poynterps.wa.edu.au
SUMMARY:Winter Sport
DESCRIPTION:
URL:https://poynterps.wa.edu.au/calendar/winter-sport-7/
CATEGORIES:Sport
END:VEVENT
BEGIN:VEVENT
DTSTART;VALUE=DATE:20250627
DTEND;VALUE=DATE:20250628
DTSTAMP:20260423T145858
CREATED:20250212T082943Z
LAST-MODIFIED:20250212T082943Z
UID:2915-1750982400-1751068799@poynterps.wa.edu.au
SUMMARY:Winter Sport - BYE
DESCRIPTION:
URL:https://poynterps.wa.edu.au/calendar/winter-sport-bye/
CATEGORIES:Sport
END:VEVENT
BEGIN:VEVENT
DTSTART;TZID=Australia/Perth:20250627T080000
DTEND;TZID=Australia/Perth:20250627T170000
DTSTAMP:20260423T145858
CREATED:20250627T042946Z
LAST-MODIFIED:20250627T042946Z
UID:3156-1751011200-1751043600@poynterps.wa.edu.au
SUMMARY:Cross Country
DESCRIPTION:More details to follow in due course
URL:https://poynterps.wa.edu.au/calendar/cross-country/
CATEGORIES:Sport
END:VEVENT
END:VCALENDAR