BEGIN:VCALENDAR
VERSION:2.0
PRODID:-//Poynter Primary School - ECPv6.15.20//NONSGML v1.0//EN
CALSCALE:GREGORIAN
METHOD:PUBLISH
X-ORIGINAL-URL:https://poynterps.wa.edu.au
X-WR-CALDESC:Events for Poynter Primary School
REFRESH-INTERVAL;VALUE=DURATION:PT1H
X-Robots-Tag:noindex
X-PUBLISHED-TTL:PT1H
BEGIN:VTIMEZONE
TZID:Australia/Perth
BEGIN:STANDARD
TZOFFSETFROM:+0800
TZOFFSETTO:+0800
TZNAME:AWST
DTSTART:20240101T000000
END:STANDARD
END:VTIMEZONE
BEGIN:VEVENT
DTSTART;VALUE=DATE:20250502
DTEND;VALUE=DATE:20250503
DTSTAMP:20260423T224116
CREATED:20250212T082351Z
LAST-MODIFIED:20250212T082351Z
UID:2901-1746144000-1746230399@poynterps.wa.edu.au
SUMMARY:Winter Sport
DESCRIPTION:
URL:https://poynterps.wa.edu.au/calendar/winter-sport/
CATEGORIES:Sport
END:VEVENT
BEGIN:VEVENT
DTSTART;VALUE=DATE:20250509
DTEND;VALUE=DATE:20250510
DTSTAMP:20260423T224116
CREATED:20250212T082546Z
LAST-MODIFIED:20250212T082546Z
UID:2903-1746748800-1746835199@poynterps.wa.edu.au
SUMMARY:Winter Sport
DESCRIPTION:
URL:https://poynterps.wa.edu.au/calendar/winter-sport-2/
CATEGORIES:Sport
END:VEVENT
BEGIN:VEVENT
DTSTART;VALUE=DATE:20250516
DTEND;VALUE=DATE:20250517
DTSTAMP:20260423T224116
CREATED:20250212T082619Z
LAST-MODIFIED:20250212T082619Z
UID:2905-1747353600-1747439999@poynterps.wa.edu.au
SUMMARY:Winter Sport
DESCRIPTION:
URL:https://poynterps.wa.edu.au/calendar/winter-sport-3/
CATEGORIES:Sport
END:VEVENT
BEGIN:VEVENT
DTSTART;VALUE=DATE:20250523
DTEND;VALUE=DATE:20250524
DTSTAMP:20260423T224116
CREATED:20250212T082700Z
LAST-MODIFIED:20250212T082700Z
UID:2907-1747958400-1748044799@poynterps.wa.edu.au
SUMMARY:Winter Sport
DESCRIPTION:
URL:https://poynterps.wa.edu.au/calendar/winter-sport-4/
CATEGORIES:Sport
END:VEVENT
END:VCALENDAR