BEGIN:VCALENDAR
VERSION:2.0
PRODID:-//Poynter Primary School - ECPv6.15.20//NONSGML v1.0//EN
CALSCALE:GREGORIAN
METHOD:PUBLISH
X-WR-CALNAME:Poynter Primary School
X-ORIGINAL-URL:https://poynterps.wa.edu.au
X-WR-CALDESC:Events for Poynter Primary School
REFRESH-INTERVAL;VALUE=DURATION:PT1H
X-Robots-Tag:noindex
X-PUBLISHED-TTL:PT1H
BEGIN:VTIMEZONE
TZID:Australia/Perth
BEGIN:STANDARD
TZOFFSETFROM:+0800
TZOFFSETTO:+0800
TZNAME:AWST
DTSTART:20240101T000000
END:STANDARD
END:VTIMEZONE
BEGIN:VEVENT
DTSTART;TZID=Australia/Perth:20260316T080000
DTEND;TZID=Australia/Perth:20260320T170000
DTSTAMP:20260422T192654
CREATED:20260210T035138Z
LAST-MODIFIED:20260210T035138Z
UID:3402-1773648000-1774026000@poynterps.wa.edu.au
SUMMARY:NAPLAN
DESCRIPTION:Year 3 and Year 5 students only.
URL:https://poynterps.wa.edu.au/calendar/naplan/
CATEGORIES:NAPLAN
END:VEVENT
BEGIN:VEVENT
DTSTART;TZID=Australia/Perth:20260311T080000
DTEND;TZID=Australia/Perth:20260313T170000
DTSTAMP:20260422T192654
CREATED:20260210T035218Z
LAST-MODIFIED:20260210T035218Z
UID:3404-1773216000-1773421200@poynterps.wa.edu.au
SUMMARY:NAPLAN
DESCRIPTION:Year 3 and Year 5 students
URL:https://poynterps.wa.edu.au/calendar/naplan-2/
CATEGORIES:NAPLAN
END:VEVENT
BEGIN:VEVENT
DTSTART;VALUE=DATE:20250324
DTEND;VALUE=DATE:20250325
DTSTAMP:20260422T192654
CREATED:20250212T064444Z
LAST-MODIFIED:20250212T064444Z
UID:2876-1742774400-1742860799@poynterps.wa.edu.au
SUMMARY:NAPLAN - Year 3 & Year 5
DESCRIPTION:
URL:https://poynterps.wa.edu.au/calendar/naplan-year-3-year-5-3/
CATEGORIES:NAPLAN
END:VEVENT
BEGIN:VEVENT
DTSTART;VALUE=DATE:20250317
DTEND;VALUE=DATE:20250321
DTSTAMP:20260422T192654
CREATED:20250212T064258Z
LAST-MODIFIED:20250214T065712Z
UID:2872-1742169600-1742515199@poynterps.wa.edu.au
SUMMARY:NAPLAN - Year 3 & Year 5
DESCRIPTION:
URL:https://poynterps.wa.edu.au/calendar/naplan-year-3-year-5-2/
CATEGORIES:NAPLAN
END:VEVENT
BEGIN:VEVENT
DTSTART;VALUE=DATE:20250312
DTEND;VALUE=DATE:20250315
DTSTAMP:20260422T192654
CREATED:20250212T063729Z
LAST-MODIFIED:20250212T064151Z
UID:2870-1741737600-1741996799@poynterps.wa.edu.au
SUMMARY:NAPLAN - Year 3 & Year 5
DESCRIPTION:
URL:https://poynterps.wa.edu.au/calendar/naplan-year-3-year-5/
CATEGORIES:NAPLAN
END:VEVENT
END:VCALENDAR