BEGIN:VCALENDAR
VERSION:2.0
PRODID:-//Poynter Primary School - ECPv6.15.20//NONSGML v1.0//EN
CALSCALE:GREGORIAN
METHOD:PUBLISH
X-ORIGINAL-URL:https://poynterps.wa.edu.au
X-WR-CALDESC:Events for Poynter Primary School
REFRESH-INTERVAL;VALUE=DURATION:PT1H
X-Robots-Tag:noindex
X-PUBLISHED-TTL:PT1H
BEGIN:VTIMEZONE
TZID:Australia/Perth
BEGIN:STANDARD
TZOFFSETFROM:+0800
TZOFFSETTO:+0800
TZNAME:AWST
DTSTART:20240101T000000
END:STANDARD
END:VTIMEZONE
BEGIN:VEVENT
DTSTART;TZID=Australia/Perth:20251110T093000
DTEND;TZID=Australia/Perth:20251110T110000
DTSTAMP:20260423T000833
CREATED:20251022T064444Z
LAST-MODIFIED:20251107T031121Z
UID:3256-1762767000-1762772400@poynterps.wa.edu.au
SUMMARY:Boogie Bounce Kindy Incursion
DESCRIPTION:Wiroos and Maali kindy classes
URL:https://poynterps.wa.edu.au/calendar/boogie-bounce-kindy-incursion/
CATEGORIES:Incursion
END:VEVENT
BEGIN:VEVENT
DTSTART;TZID=Australia/Perth:20251110T090000
DTEND;TZID=Australia/Perth:20251110T120000
DTSTAMP:20260423T000833
CREATED:20250924T031151Z
LAST-MODIFIED:20251107T031734Z
UID:3234-1762765200-1762776000@poynterps.wa.edu.au
SUMMARY:Year 2 Science Incursion
DESCRIPTION:Rm 3\, Rm 4 and Rm 8 Year 2 students only
URL:https://poynterps.wa.edu.au/calendar/year-2-science-incursion/
CATEGORIES:Incursion
END:VEVENT
BEGIN:VEVENT
DTSTART;TZID=Australia/Perth:20251106T122000
DTEND;TZID=Australia/Perth:20251106T150000
DTSTAMP:20260423T000833
CREATED:20250924T030143Z
LAST-MODIFIED:20250924T030143Z
UID:3223-1762431600-1762441200@poynterps.wa.edu.au
SUMMARY:Year 5 & 6 Dance
DESCRIPTION:Incursion with Humphreys Dance Studio
URL:https://poynterps.wa.edu.au/calendar/year-5-6-dance/
CATEGORIES:Incursion
END:VEVENT
BEGIN:VEVENT
DTSTART;TZID=Australia/Perth:20251023T120000
DTEND;TZID=Australia/Perth:20251023T150000
DTSTAMP:20260423T000833
CREATED:20251022T064223Z
LAST-MODIFIED:20251022T064223Z
UID:3254-1761220800-1761231600@poynterps.wa.edu.au
SUMMARY:Year 5 Waste Sorted Incursion
DESCRIPTION:
URL:https://poynterps.wa.edu.au/calendar/year-5-waste-sorted-incursion/
CATEGORIES:Incursion
END:VEVENT
END:VCALENDAR