BEGIN:VCALENDAR
VERSION:2.0
PRODID:-//Poynter Primary School - ECPv6.15.20//NONSGML v1.0//EN
CALSCALE:GREGORIAN
METHOD:PUBLISH
X-ORIGINAL-URL:https://poynterps.wa.edu.au
X-WR-CALDESC:Events for Poynter Primary School
REFRESH-INTERVAL;VALUE=DURATION:PT1H
X-Robots-Tag:noindex
X-PUBLISHED-TTL:PT1H
BEGIN:VTIMEZONE
TZID:Australia/Perth
BEGIN:STANDARD
TZOFFSETFROM:+0800
TZOFFSETTO:+0800
TZNAME:AWST
DTSTART:20240101T000000
END:STANDARD
END:VTIMEZONE
BEGIN:VEVENT
DTSTART;TZID=Australia/Perth:20250514T140000
DTEND;TZID=Australia/Perth:20250514T150000
DTSTAMP:20260420T070403
CREATED:20250509T051304Z
LAST-MODIFIED:20250509T053050Z
UID:3112-1747231200-1747234800@poynterps.wa.edu.au
SUMMARY:Family Day (Kindy and PP only)
DESCRIPTION:
URL:https://poynterps.wa.edu.au/calendar/family-day-kindy-and-pp-only/
CATEGORIES:ECE
END:VEVENT
END:VCALENDAR