BEGIN:VCALENDAR
VERSION:2.0
PRODID:-//Poynter Primary School - ECPv6.15.20//NONSGML v1.0//EN
CALSCALE:GREGORIAN
METHOD:PUBLISH
X-WR-CALNAME:Poynter Primary School
X-ORIGINAL-URL:https://poynterps.wa.edu.au
X-WR-CALDESC:Events for Poynter Primary School
REFRESH-INTERVAL;VALUE=DURATION:PT1H
X-Robots-Tag:noindex
X-PUBLISHED-TTL:PT1H
BEGIN:VTIMEZONE
TZID:Australia/Perth
BEGIN:STANDARD
TZOFFSETFROM:+0800
TZOFFSETTO:+0800
TZNAME:AWST
DTSTART:20250101T000000
END:STANDARD
END:VTIMEZONE
BEGIN:VEVENT
DTSTART;VALUE=DATE:20261109
DTEND;VALUE=DATE:20261121
DTSTAMP:20260419T211121
CREATED:20260210T072156Z
LAST-MODIFIED:20260210T072156Z
UID:3493-1794182400-1795219199@poynterps.wa.edu.au
SUMMARY:Swimming
DESCRIPTION:Pre Primary – Year 4
URL:https://poynterps.wa.edu.au/calendar/swimming/
CATEGORIES:Swimming
END:VEVENT
BEGIN:VEVENT
DTSTART;TZID=Australia/Perth:20261113T080000
DTEND;TZID=Australia/Perth:20261113T170000
DTSTAMP:20260419T211121
CREATED:20251024T014121Z
LAST-MODIFIED:20251024T014121Z
UID:3272-1794556800-1794589200@poynterps.wa.edu.au
SUMMARY:School Development Day
DESCRIPTION:Students do not attend school.
URL:https://poynterps.wa.edu.au/calendar/school-development-day-5/
CATEGORIES:Staff Development Day
END:VEVENT
END:VCALENDAR