BEGIN:VCALENDAR
VERSION:2.0
PRODID:-//Poynter Primary School - ECPv6.15.20//NONSGML v1.0//EN
CALSCALE:GREGORIAN
METHOD:PUBLISH
X-ORIGINAL-URL:https://poynterps.wa.edu.au
X-WR-CALDESC:Events for Poynter Primary School
REFRESH-INTERVAL;VALUE=DURATION:PT1H
X-Robots-Tag:noindex
X-PUBLISHED-TTL:PT1H
BEGIN:VTIMEZONE
TZID:Australia/Perth
BEGIN:STANDARD
TZOFFSETFROM:+0800
TZOFFSETTO:+0800
TZNAME:AWST
DTSTART:20250101T000000
END:STANDARD
END:VTIMEZONE
BEGIN:VEVENT
DTSTART;VALUE=DATE:20260918
DTEND;VALUE=DATE:20260919
DTSTAMP:20260419T231137
CREATED:20260210T070354Z
LAST-MODIFIED:20260210T070354Z
UID:3479-1789689600-1789775999@poynterps.wa.edu.au
SUMMARY:Interschool Athletics Carnival
DESCRIPTION:Selected students only.
URL:https://poynterps.wa.edu.au/calendar/interschool-athletics-carnival/
CATEGORIES:Sport
END:VEVENT
END:VCALENDAR