BEGIN:VCALENDAR
VERSION:2.0
PRODID:-//Poynter Primary School - ECPv6.15.20//NONSGML v1.0//EN
CALSCALE:GREGORIAN
METHOD:PUBLISH
X-WR-CALNAME:Poynter Primary School
X-ORIGINAL-URL:https://poynterps.wa.edu.au
X-WR-CALDESC:Events for Poynter Primary School
REFRESH-INTERVAL;VALUE=DURATION:PT1H
X-Robots-Tag:noindex
X-PUBLISHED-TTL:PT1H
BEGIN:VTIMEZONE
TZID:Australia/Perth
BEGIN:STANDARD
TZOFFSETFROM:+0800
TZOFFSETTO:+0800
TZNAME:AWST
DTSTART:20250101T000000
END:STANDARD
END:VTIMEZONE
BEGIN:VEVENT
DTSTART;TZID=Australia/Perth:20260811T080000
DTEND;TZID=Australia/Perth:20260811T170000
DTSTAMP:20260419T201715
CREATED:20260210T062804Z
LAST-MODIFIED:20260210T063318Z
UID:3458-1786435200-1786467600@poynterps.wa.edu.au
SUMMARY:Interschool Cross Country
DESCRIPTION:Selected students only
URL:https://poynterps.wa.edu.au/calendar/interschool-cross-country-2/
CATEGORIES:Sport
END:VEVENT
END:VCALENDAR