BEGIN:VCALENDAR
VERSION:2.0
PRODID:-//Poynter Primary School - ECPv6.15.20//NONSGML v1.0//EN
CALSCALE:GREGORIAN
METHOD:PUBLISH
X-ORIGINAL-URL:https://poynterps.wa.edu.au
X-WR-CALDESC:Events for Poynter Primary School
REFRESH-INTERVAL;VALUE=DURATION:PT1H
X-Robots-Tag:noindex
X-PUBLISHED-TTL:PT1H
BEGIN:VTIMEZONE
TZID:Australia/Perth
BEGIN:STANDARD
TZOFFSETFROM:+0800
TZOFFSETTO:+0800
TZNAME:AWST
DTSTART:20240101T000000
END:STANDARD
END:VTIMEZONE
BEGIN:VEVENT
DTSTART;TZID=Australia/Perth:20250507T100000
DTEND;TZID=Australia/Perth:20250507T104500
DTSTAMP:20260423T000701
CREATED:20250214T061346Z
LAST-MODIFIED:20250214T061346Z
UID:2936-1746612000-1746614700@poynterps.wa.edu.au
SUMMARY:Prospective Student Tour
DESCRIPTION:Please call Admin on 9492 2350 to book tour.
URL:https://poynterps.wa.edu.au/calendar/prospective-student-tour/
CATEGORIES:Prospective Student Tour
END:VEVENT
BEGIN:VEVENT
DTSTART;TZID=Australia/Perth:20250507T140000
DTEND;TZID=Australia/Perth:20250507T150000
DTSTAMP:20260423T000701
CREATED:20250214T065544Z
LAST-MODIFIED:20250214T070350Z
UID:2968-1746626400-1746630000@poynterps.wa.edu.au
SUMMARY:Assembly
DESCRIPTION:Year 4\, Room 5
URL:https://poynterps.wa.edu.au/calendar/assembly-3/
CATEGORIES:Assembly
END:VEVENT
END:VCALENDAR