BEGIN:VCALENDAR
VERSION:2.0
PRODID:-//Poynter Primary School - ECPv6.15.20//NONSGML v1.0//EN
CALSCALE:GREGORIAN
METHOD:PUBLISH
X-WR-CALNAME:Poynter Primary School
X-ORIGINAL-URL:https://poynterps.wa.edu.au
X-WR-CALDESC:Events for Poynter Primary School
REFRESH-INTERVAL;VALUE=DURATION:PT1H
X-Robots-Tag:noindex
X-PUBLISHED-TTL:PT1H
BEGIN:VTIMEZONE
TZID:Australia/Perth
BEGIN:STANDARD
TZOFFSETFROM:+0800
TZOFFSETTO:+0800
TZNAME:AWST
DTSTART:20240101T000000
END:STANDARD
END:VTIMEZONE
BEGIN:VEVENT
DTSTART;TZID=Australia/Perth:20250210T180000
DTEND;TZID=Australia/Perth:20250210T190000
DTSTAMP:20260422T211855
CREATED:20250207T075619Z
LAST-MODIFIED:20250207T075619Z
UID:2694-1739210400-1739214000@poynterps.wa.edu.au
SUMMARY:Board Meeting
DESCRIPTION:Staff Room
URL:https://poynterps.wa.edu.au/calendar/board-meeting/
LOCATION:Staff Room
CATEGORIES:Board Meeting
END:VEVENT
END:VCALENDAR